1.92825751623693
0
0
-1.92825751623675
534977.960514698
4817710.77805758
