1.56344829069859
0
0
-1.56344829069876
537478.934957888
4817718.97356426
