1.54632494019599
0
0
-1.54632494019625
532481.516194525
4820214.91341926
