1.60192691052017
0
0
-1.6019269105204
529984.569337579
4815212.1396641
