1.52135130210593
0
0
-1.52135130210585
529956.54178666
4835217.15531397
