1.47461530105011
0
0
-1.47461530105005
532482.847528848
4825214.88194365
