1.52746325163461
0
0
-1.52746325163475
529958.021746997
4822708.20566718
