1.47461730883801
0
0
-1.47461730883812
529955.336253765
4825211.93615138
