1.52132955957789
0
0
-1.52132955957768
532454.653663458
4837742.6021217
