1.53377600751336
0
0
-1.53377600751357
537485.377030641
4822721.56380705
