2.06788307851878
0
0
-2.06788307851868
524987.30252735
4820215.0066249
