1.4907678929561
0
0
-1.49076789295598
519991.551992789
4820211.18499087
