2.06788307851878
0
0
-2.06788307851868
527489.481599079
4820215.0066249
