1.56657700023448
0
0
-1.56657700023419
524984.575067546
4817712.88080978
