1.86702980038957
0
0
-1.86702980038975
524988.540265471
4825210.94875413
