1.45674813735793
0
0
-1.4567481373578
514987.198176899
4830207.83992694
