1.56816456322734
0
0
-1.5681645632272
522485.166448386
4822722.56750341
