1.309998618642764
0.000000000000000
0.000000000000000
-1.309658537980837
537416.208794180300000
4835600.946419544500000
