1.93964769335258
0
0
-1.93964769335265
538873.982086431
4812718.98969363
