1.57585123421542
0
0
-1.57585123421529
539983.078920873
4812716.13565675
