1.55254878514762
0
0
-1.55254878514772
547478.03292985
4807722.85799387
