1.60625166415947
0
0
-1.60625166415926
547479.683014555
4800221.39985276
