1.67392177481839
0
0
-1.67392177481813
552473.216051138
4795224.16133063
