1.70294766705883
0
0
-1.70294766705895
559976.560117911
4797722.2396791
