1.52903575238864
0
0
-1.52903575238839
549980.775674045
4797719.71713856
