1.52615004124414
0
0
-1.52615004124417
549978.274600812
4802721.06001362
