1.54403403265486
0
0
-1.54403403265458
559977.471827591
4805226.74900638
