1.54346340217857
0
0
-1.54346340217855
557474.777646687
4810226.43883433
