1.59835116991973
0
0
-1.59835116991977
542486.271504107
4815220.84294852
