1.5920607521654
0
0
-1.59206075216568
537482.431951821
4810217.37589826
