1.169958688417864
0.000000000000000
0.000000000000000
-1.170039773721147
552438.066121895220000
4817756.427127135900000
