1.54322551513359
0
0
-1.54322551513365
544976.977776926
4812719.3039251
