1.51372249542402
0
0
-1.51372249542429
547477.186361425
4805218.72221547
