2.41631756728448
0
0
-2.41631756728437
534986.066940295
4815214.61738084
