2.06966217533667
0
0
-2.06966217533638
529988.690989879
4812711.82496714
