2.1104120633476
0
0
-2.11041206334795
532485.062420576
4817714.59189754
