2.39386214299813
0
0
-2.3938621429984
529980.452881314
4815218.51101617
