2.05357654978441
0
0
-2.05357654978444
539982.241291056
4802721.79775842
