2.07860305701463
0
0
-2.07860305701491
529980.696095268
4800215.29171583
