2.04745501469124
0
0
-2.04745501469114
522488.328154221
4815211.45250633
