2.03751399660177
0
0
-2.03751399660158
519990.020540465
4802710.4344289
