2.04501943626912
0
0
-2.04501943626931
519991.657452021
4797709.15759565
