2.07410804184203
0
0
-2.07410804184203
522485.939353472
4812712.12033211
