2.05525842733261
0
0
-2.0552584273325
522490.4809842
4797716.55397379
