2.08294618455386
0
0
-2.08294618455386
524988.211795946
4800211.66176089
