1.49831108886397
0
0
-1.49831108886399
537484.356732271
4810216.47692439
