1.48367535340961
0
0
-1.48367535340953
537482.876878908
4815216.00811201
