1.57271668855471
0
0
-1.57271668855471
534979.214690098
4807713.73547918
