2.06581570954486
0
0
-2.06581570954491
542483.056483571
4812724.39945397
