1.46370399488502
0
0
-1.46370399488521
542481.391566102
4817716.49072945
